BEGIN:VCALENDAR
VERSION:2.0
PRODID:-//Crucified Motorcycle Ministry - A Christian Ministry in Central Texas - ECPv6.15.20//NONSGML v1.0//EN
CALSCALE:GREGORIAN
METHOD:PUBLISH
X-WR-CALNAME:Crucified Motorcycle Ministry - A Christian Ministry in Central Texas
X-ORIGINAL-URL:https://www.crucifiedmotorcycleministry.com
X-WR-CALDESC:Events for Crucified Motorcycle Ministry - A Christian Ministry in Central Texas
REFRESH-INTERVAL;VALUE=DURATION:PT1H
X-Robots-Tag:noindex
X-PUBLISHED-TTL:PT1H
BEGIN:VTIMEZONE
TZID:America/Chicago
BEGIN:DAYLIGHT
TZOFFSETFROM:-0600
TZOFFSETTO:-0500
TZNAME:CDT
DTSTART:20250309T080000
END:DAYLIGHT
BEGIN:STANDARD
TZOFFSETFROM:-0500
TZOFFSETTO:-0600
TZNAME:CST
DTSTART:20251102T070000
END:STANDARD
BEGIN:DAYLIGHT
TZOFFSETFROM:-0600
TZOFFSETTO:-0500
TZNAME:CDT
DTSTART:20260308T080000
END:DAYLIGHT
BEGIN:STANDARD
TZOFFSETFROM:-0500
TZOFFSETTO:-0600
TZNAME:CST
DTSTART:20261101T070000
END:STANDARD
BEGIN:DAYLIGHT
TZOFFSETFROM:-0600
TZOFFSETTO:-0500
TZNAME:CDT
DTSTART:20270314T080000
END:DAYLIGHT
BEGIN:STANDARD
TZOFFSETFROM:-0500
TZOFFSETTO:-0600
TZNAME:CST
DTSTART:20271107T070000
END:STANDARD
END:VTIMEZONE
BEGIN:VEVENT
DTSTART;TZID=America/Chicago:20260301T080000
DTEND;TZID=America/Chicago:20260301T093000
DTSTAMP:20260421T050855
CREATED:20260209T051830Z
LAST-MODIFIED:20260209T051830Z
UID:2225-1772352000-1772357400@www.crucifiedmotorcycleministry.com
SUMMARY:Calvary Chapel Temple Sunday Service
DESCRIPTION:Calvary Chapel Temple invites you to join us every Sunday morning at 9AM or 11AM as we worship God together. We look forward to meeting you soon!
URL:https://www.crucifiedmotorcycleministry.com/event/calvary-chapel-temple-sunday-service-3/
LOCATION:Calvary Chapel Temple\, 2613 Bearing Ln\, Temple\, TX\, 76504\, United States
CATEGORIES:CCT Sunday Service
END:VEVENT
BEGIN:VEVENT
DTSTART;TZID=America/Chicago:20260301T113000
DTEND;TZID=America/Chicago:20260301T133000
DTSTAMP:20260421T050855
CREATED:20260209T051452Z
LAST-MODIFIED:20260209T051452Z
UID:2221-1772364600-1772371800@www.crucifiedmotorcycleministry.com
SUMMARY:Calvary Chapel Temple - March Koinonia - Pasta
DESCRIPTION:Our next monthly Koinonia luncheon will be held Sunday\, March 1st\, after 2nd service. The theme will be Pasta!Bring a side dish or dessert if you are able to. We look forward to a wonderful time of fellowship with our church family.
URL:https://www.crucifiedmotorcycleministry.com/event/calvary-chapel-temple-march-koinonia-pasta/
LOCATION:Calvary Chapel Temple\, 2613 Bearing Ln\, Temple\, TX\, 76504\, United States
CATEGORIES:CCT Koinonia
END:VEVENT
BEGIN:VEVENT
DTSTART;TZID=America/Chicago:20260304T180000
DTEND;TZID=America/Chicago:20260304T200000
DTSTAMP:20260421T050855
CREATED:20260305T035500Z
LAST-MODIFIED:20260305T035500Z
UID:2330-1772647200-1772654400@www.crucifiedmotorcycleministry.com
SUMMARY:Calvary Chapel Prayer Night
DESCRIPTION:Join us for corporate prayer at Calvary Chapel Temple
URL:https://www.crucifiedmotorcycleministry.com/event/calvary-chapel-prayer-night/
LOCATION:Calvary Chapel Temple\, 2613 Bearing Ln\, Temple\, TX\, 76504\, United States
CATEGORIES:CCT Prayer Night
END:VEVENT
BEGIN:VEVENT
DTSTART;TZID=America/Chicago:20260304T200000
DTEND;TZID=America/Chicago:20260304T210000
DTSTAMP:20260421T050855
CREATED:20260305T034930Z
LAST-MODIFIED:20260305T035226Z
UID:2322-1772654400-1772658000@www.crucifiedmotorcycleministry.com
SUMMARY:CMM Wednesday Night Bible Study
DESCRIPTION:Join Mark Kenneth Lewis on Facebook Wednesday night at 8pm CST for a worship and bible study.
URL:https://www.crucifiedmotorcycleministry.com/event/cmm-wednesday-night-bible-study/
LOCATION:TX
CATEGORIES:CMM Online Bible Study
END:VEVENT
BEGIN:VEVENT
DTSTART;TZID=America/Chicago:20260308T090000
DTEND;TZID=America/Chicago:20260308T103000
DTSTAMP:20260421T050855
CREATED:20260305T040003Z
LAST-MODIFIED:20260305T040003Z
UID:2336-1772960400-1772965800@www.crucifiedmotorcycleministry.com
SUMMARY:Calvary Chapel Temple Sunday Service
DESCRIPTION:Calvary Chapel Temple invites you to join us every Sunday morning at 9AM or 11AM as we worship God together. We look forward to meeting you soon!
URL:https://www.crucifiedmotorcycleministry.com/event/calvary-chapel-temple-sunday-service-4/
LOCATION:Calvary Chapel Temple\, 2613 Bearing Ln\, Temple\, TX\, 76504\, United States
CATEGORIES:CCT Sunday Service
END:VEVENT
BEGIN:VEVENT
DTSTART;TZID=America/Chicago:20260311T183000
DTEND;TZID=America/Chicago:20260311T200000
DTSTAMP:20260421T050855
CREATED:20260305T035657Z
LAST-MODIFIED:20260305T035829Z
UID:2332-1773253800-1773259200@www.crucifiedmotorcycleministry.com
SUMMARY:Calvary Chapel Temple Bible Study
DESCRIPTION:Calvary Chapel Temple Weekly Bible Study We will be studying Chapter 4 in Warren Wiersbe’s book\, Be Responsible
URL:https://www.crucifiedmotorcycleministry.com/event/calvary-chapel-temple-bible-study-3/
LOCATION:Calvary Chapel Temple\, 2613 Bearing Ln\, Temple\, TX\, 76504\, United States
CATEGORIES:CCT Bible Study
END:VEVENT
BEGIN:VEVENT
DTSTART;TZID=America/Chicago:20260311T200000
DTEND;TZID=America/Chicago:20260311T210000
DTSTAMP:20260421T050855
CREATED:20260305T035045Z
LAST-MODIFIED:20260305T035217Z
UID:2324-1773259200-1773262800@www.crucifiedmotorcycleministry.com
SUMMARY:CMM Wednesday Night Online Bible Study
DESCRIPTION:Join Mark Kenneth Lewis on Facebook Wednesday night at 8pm CST for a worship and bible study.
URL:https://www.crucifiedmotorcycleministry.com/event/cmm-wednesday-night-online-bible-study/
LOCATION:TX
CATEGORIES:CMM Online Bible Study
END:VEVENT
BEGIN:VEVENT
DTSTART;TZID=America/Chicago:20260315T090000
DTEND;TZID=America/Chicago:20260315T103000
DTSTAMP:20260421T050855
CREATED:20260305T040127Z
LAST-MODIFIED:20260305T040127Z
UID:2338-1773565200-1773570600@www.crucifiedmotorcycleministry.com
SUMMARY:Calvary Chapel Temple Sunday Service
DESCRIPTION:Calvary Chapel Temple invites you to join us every Sunday morning at 9AM or 11AM as we worship God together. We look forward to meeting you soon!
URL:https://www.crucifiedmotorcycleministry.com/event/calvary-chapel-temple-sunday-service-5/
LOCATION:Calvary Chapel Temple\, 2613 Bearing Ln\, Temple\, TX\, 76504\, United States
CATEGORIES:CCT Sunday Service
END:VEVENT
BEGIN:VEVENT
DTSTART;TZID=America/Chicago:20260318T183000
DTEND;TZID=America/Chicago:20260318T200000
DTSTAMP:20260421T050855
CREATED:20260305T035805Z
LAST-MODIFIED:20260305T035805Z
UID:2334-1773858600-1773864000@www.crucifiedmotorcycleministry.com
SUMMARY:Calvary Chapel Wednesday Night Bible Study
DESCRIPTION:Calvary Chapel Temple Weekly Bible Study We will be studying Chapter 5 in Warren Wiersbe’s book\, Be Responsible
URL:https://www.crucifiedmotorcycleministry.com/event/calvary-chapel-wednesday-night-bible-study/
LOCATION:Calvary Chapel Temple\, 2613 Bearing Ln\, Temple\, TX\, 76504\, United States
CATEGORIES:CCT Bible Study
END:VEVENT
BEGIN:VEVENT
DTSTART;TZID=America/Chicago:20260318T200000
DTEND;TZID=America/Chicago:20260318T210000
DTSTAMP:20260421T050855
CREATED:20260305T035202Z
LAST-MODIFIED:20260305T035202Z
UID:2326-1773864000-1773867600@www.crucifiedmotorcycleministry.com
SUMMARY:CMM Wednesday Night Online Bible Study
DESCRIPTION:Join Mark Kenneth Lewis on Facebook Wednesday night at 8pm CST for a worship and bible study.
URL:https://www.crucifiedmotorcycleministry.com/event/cmm-wednesday-night-online-bible-study-2/
LOCATION:TX
CATEGORIES:CMM Online Bible Study
END:VEVENT
BEGIN:VEVENT
DTSTART;TZID=America/Chicago:20260321T120000
DTEND;TZID=America/Chicago:20260321T180000
DTSTAMP:20260421T050855
CREATED:20260319T023033Z
LAST-MODIFIED:20260319T023058Z
UID:2383-1774094400-1774116000@www.crucifiedmotorcycleministry.com
SUMMARY:Little River Academy Dragrace 2026
DESCRIPTION:Come check out the races and be sure to visit us at our tent.\nMotorcycle drag races at Little River Academy Dragway.\n13550 State Hwy 95\nHolland\, TX 76534 \n$35 to race.\n$25 to spectate.
URL:https://www.crucifiedmotorcycleministry.com/event/dragrace-2026/
LOCATION:Little River Speedway\, 13550 State Hwy 95\, Holland\, TX\, 76534\, United States
END:VEVENT
BEGIN:VEVENT
DTSTART;TZID=America/Chicago:20260322T090000
DTEND;TZID=America/Chicago:20260322T103000
DTSTAMP:20260421T050855
CREATED:20260305T040218Z
LAST-MODIFIED:20260305T040218Z
UID:2340-1774170000-1774175400@www.crucifiedmotorcycleministry.com
SUMMARY:Calvary Chapel Temple Sunday Service
DESCRIPTION:Calvary Chapel Temple invites you to join us every Sunday morning at 9AM or 11AM as we worship God together. We look forward to meeting you soon!
URL:https://www.crucifiedmotorcycleministry.com/event/calvary-chapel-temple-sunday-service-6/
LOCATION:Calvary Chapel Temple\, 2613 Bearing Ln\, Temple\, TX\, 76504\, United States
CATEGORIES:CCT Sunday Service
END:VEVENT
BEGIN:VEVENT
DTSTART;TZID=America/Chicago:20260325T200000
DTEND;TZID=America/Chicago:20260325T210000
DTSTAMP:20260421T050855
CREATED:20260305T035318Z
LAST-MODIFIED:20260305T035318Z
UID:2328-1774468800-1774472400@www.crucifiedmotorcycleministry.com
SUMMARY:CMM Wednesday Night Online Bible Study
DESCRIPTION:Join Mark Kenneth Lewis on Facebook Wednesday night at 8pm CST for a worship and bible study
URL:https://www.crucifiedmotorcycleministry.com/event/cmm-wednesday-night-online-bible-study-3/
LOCATION:TX
CATEGORIES:CMM Online Bible Study
END:VEVENT
BEGIN:VEVENT
DTSTART;TZID=America/Chicago:20260325T200000
DTEND;TZID=America/Chicago:20260325T210000
DTSTAMP:20260421T050855
CREATED:20260305T040440Z
LAST-MODIFIED:20260305T040440Z
UID:2345-1774468800-1774472400@www.crucifiedmotorcycleministry.com
SUMMARY:CMM Wednesday Night Online Bible Study
DESCRIPTION:Join Mark Kenneth Lewis on Facebook Wednesday night at 8pm CST for a worship and bible study.
URL:https://www.crucifiedmotorcycleministry.com/event/cmm-wednesday-night-online-bible-study-4/
LOCATION:TX
CATEGORIES:CMM Online Bible Study
END:VEVENT
BEGIN:VEVENT
DTSTART;TZID=America/Chicago:20260329T090000
DTEND;TZID=America/Chicago:20260329T103000
DTSTAMP:20260421T050855
CREATED:20260305T040311Z
LAST-MODIFIED:20260305T040311Z
UID:2343-1774774800-1774780200@www.crucifiedmotorcycleministry.com
SUMMARY:Calvary Chapel Temple Sunday Service
DESCRIPTION:Calvary Chapel Temple invites you to join us every Sunday morning at 9AM or 11AM as we worship God together. We look forward to meeting you soon!
URL:https://www.crucifiedmotorcycleministry.com/event/calvary-chapel-temple-sunday-service-7/
LOCATION:Calvary Chapel Temple\, 2613 Bearing Ln\, Temple\, TX\, 76504\, United States
CATEGORIES:CCT Sunday Service
END:VEVENT
END:VCALENDAR